Workbook

Sheet Listes
A1: Séries | B1: Stades | C1: Statuts
A2: Série 1 | B2: Poule | C2: Participé
A3: Série 2 | B3: Vainqueur | C3: Absent
A4: Série 3 | B4: Finaliste | C4: Forfait
A5: Série 4 | B5: Demi-finale | C5: Abandon
A6: Série 5 | B6: Quart de finale | C6: Disqualifié
A7: Série 6 | B7: Huitième de finale
A8: Série 7 | B8: Seizième de finale
A9: Série 8 | B9: 32e de finale
A10: Série 9
A11: Série 10
A12: Série 11

Sheet Mode d'emploi
A1: CHALLENGE PROVINCIAL DU HAINAUT
A3: Étape | B3: Action
A4: 1 | B4: Dans « Paramètres », encode une ligne par tournoi et par série.
A5: 2 | B5: Indique le nombre de participants, les poules de 3, les poules de 4 et les qualifiés par poule.
A6: 3 | B6: Dans « Résultats », encode une ligne par joueur.
A7: 4 | B7: Pour un joueur éliminé en poule, choisis « Poule » et indique son rang dans la poule.
A8: 5 | B8: Pour un joueur qualifié, choisis le stade atteint dans le tableau final.
A9: 6 | B9: Les points sont calculés automatiquement.
A10: 7 | B10: Le joueur apparaît automatiquement dans l’onglet de sa série.
A11: 8 | B11: Le classement retient automatiquement les 7 meilleurs résultats.
A12: 9 | B12: Un minimum de 3 participations est requis pour être éligible au classement final.

Sheet Paramètres
A1: PARAMÈTRES PAR TOURNOI ET PAR SÉRIE
A3: Tournoi | B3: Série | C3: Participants | D3: Poules de 3 | E3: Poules de 4 | F3: Qualifiés / poule | G3: Nb poules | H3: Nb qualifiés
A4: Dour | B4: Série 1 | C4: 12 | D4: 4 | E4: 0 | F4: 1 | G4: =IF(OR(D4="",E4=""),"",D4+E4) -> 4 | H4: =IF(OR(G4="",F4=""),"",G4*F4) -> 4
A5: Dour | B5: Série 2 | C5: 21 | D5: 7 | E5: 0 | F5: 1 | G5: =IF(OR(D5="",E5=""),"",D5+E5) -> 7 | H5: =IF(OR(G5="",F5=""),"",G5*F5) -> 7
A6: Dour | B6: Série 3 | C6: 21 | D6: 7 | E6: 0 | F6: 1 | G6: =IF(OR(D6="",E6=""),"",D6+E6) -> 7 | H6: =IF(OR(G6="",F6=""),"",G6*F6) -> 7
A7: Dour | B7: Série 4 | C7: 20 | D7: 7 | E7: 0 | F7: 1 | G7: =IF(OR(D7="",E7=""),"",D7+E7) -> 7 | H7: =IF(OR(G7="",F7=""),"",G7*F7) -> 7
A8: Dour | B8: Série 5 | C8: 14 | D8: 5 | E8: 0 | F8: 1 | G8: =IF(OR(D8="",E8=""),"",D8+E8) -> 5 | H8: =IF(OR(G8="",F8=""),"",G8*F8) -> 5
A9: Dour | B9: Série 6 | C9: 2 | D9: 1 | E9: 0 | F9: 1 | G9: =IF(OR(D9="",E9=""),"",D9+E9) -> 1 | H9: =IF(OR(G9="",F9=""),"",G9*F9) -> 1
G10: =IF(OR(D10="",E10=""),"",D10+E10) | H10: =IF(OR(G10="",F10=""),"",G10*F10)
G11: =IF(OR(D11="",E11=""),"",D11+E11) | H11: =IF(OR(G11="",F11=""),"",G11*F11)
G12: =IF(OR(D12="",E12=""),"",D12+E12) | H12: =IF(OR(G12="",F12=""),"",G12*F12)
G13: =IF(OR(D13="",E13=""),"",D13+E13) | H13: =IF(OR(G13="",F13=""),"",G13*F13)
G14: =IF(OR(D14="",E14=""),"",D14+E14) | H14: =IF(OR(G14="",F14=""),"",G14*F14)
G15: =IF(OR(D15="",E15=""),"",D15+E15) | H15: =IF(OR(G15="",F15=""),"",G15*F15)
G16: =IF(OR(D16="",E16=""),"",D16+E16) | H16: =IF(OR(G16="",F16=""),"",G16*F16)
G17: =IF(OR(D17="",E17=""),"",D17+E17) | H17: =IF(OR(G17="",F17=""),"",G17*F17)
G18: =IF(OR(D18="",E18=""),"",D18+E18) | H18: =IF(OR(G18="",F18=""),"",G18*F18)
G19: =IF(OR(D19="",E19=""),"",D19+E19) | H19: =IF(OR(G19="",F19=""),"",G19*F19)
G20: =IF(OR(D20="",E20=""),"",D20+E20) | H20: =IF(OR(G20="",F20=""),"",G20*F20)
G21: =IF(OR(D21="",E21=""),"",D21+E21) | H21: =IF(OR(G21="",F21=""),"",G21*F21)
... G303: =IF(OR(D303="",E303=""),"",D303+E303) | H303: =IF(OR(G303="",F303=""),"",G303*F303)

Sheet Résultats
A1: ENCODAGE DES RÉSULTATS
A3: Tournoi | B3: Date | C3: Série | D3: Joueur | E3: Club | F3: Classement | G3: Rang poule | H3: Stade atteint | I3: Statut | J3: Points | K3: Participation | L3: Victoire | M3: Participants | N3: Nb poules | O3: Nb qualifiés
A4: Dour | B4: 46277 | C4: Série 1 | D4: TOM GOULEM | E4: H091 | F4: E6 | G4: 1 | H4: Demi-finale | I4: Participé | J4: =IF(OR(A4="",C4="",D4=""),"",IF(I4<>"Participé",0,IF(H4="Vainqueur",M4+10,IF(H4="Finaliste",MAX(1,M4-1),IF(H4="Demi-finale",MAX(1,M4-3),IF(H4="Quart de finale",MAX(1,M4-7),IF(H4="Huitième de finale",MAX(1,M4-15),IF(H4="Seizième de finale",MAX(1,M4-31),IF(H4="32e de finale",MAX(1,M4-63),IF(H4="Poule",MAX(1,M4-(N4*SUMIFS(Paramètres!$F$4:$F$303,Paramètres!$A$4:$A$303,A4,Paramètres!$B$4:$B$303,C4)+MAX(0,G4-SUMIFS(Paramètres!$F$4:$F$303,Paramètres!$A$4:$A$303,A4,Paramètres!$B$4:$B$303,C4)-1)*N4+IF(G4=4,SUMIFS(Paramètres!$E$4:$E$303,Paramètres!$A$4:$A$303,A4,Paramètres!$B$4:$B$303,C4),N4)-1)),"")))))))))) -> 9 | K4: =IF(I4="Participé",1,0) -> 1 | L4: =IF(AND(I4="Participé",H4="Vainqueur"),1,0) -> 0 | M4: =IF(OR(A4="",C4=""),"",SUMIFS(Paramètres!$C$4:$C$303,Paramètres!$A$4:$A$303,A4,Paramètres!$B$4:$B$303,C4)) -> 12 | N4: =IF(OR(A4="",C4=""),"",SUMIFS(Paramètres!$G$4:$G$303,Paramètres!$A$4:$A$303,A4,Paramètres!$B$4:$B$303,C4)) -> 4 | O4: =IF(OR(A4="",C4=""),"",SUMIFS(Paramètres!$H$4:$H$303,Paramètres!$A$4:$A$303,A4,Paramètres!$B$4:$B$303,C4)) -> 4
A5: Dour | B5: 46277 | C5: Série 1 | D5: MARTINE VAN REEPINGEN | E5: H091 | F5: NC | G5: 3 | H5: Poule | I5: Participé | J5: =IF(OR(A5="",C5="",D5=""),"",IF(I5<>"Participé",0,IF(H5="Vainqueur",M5+10,IF(H5="Finaliste",MAX(1,M5-1),IF(H5="Demi-finale",MAX(1,M5-3),IF(H5="Quart de finale",MAX(1,M5-7),IF(H5="Huitième de finale",MAX(1,M5-15),IF(H5="Seizième de finale",MAX(1,M5-31),IF(H5="32e de finale",MAX(1,M5-63),IF(H5="Poule",MAX(1,M5-(N5*SUMIFS(Paramètres!$F$4:$F$303,Paramètres!$A$4:$A$303,A5,Paramètres!$B$4:$B$303,C5)+MAX(0,G5-SUMIFS(Paramètres!$F$4:$F$303,Paramètres!$A$4:$A$303,A5,Paramètres!$B$4:$B$303,C5)-1)*N5+IF(G5=4,SUMIFS(Paramètres!$E$4:$E$303,Paramètres!$A$4:$A$303,A5,Paramètres!$B$4:$B$303,C5),N5)-1)),"")))))))))) -> 1 | K5: =IF(I5="Participé",1,0) -> 1 | L5: =IF(AND(I5="Participé",H5="Vainqueur"),1,0) -> 0 | M5: =IF(OR(A5="",C5=""),"",SUMIFS(Paramètres!$C$4:$C$303,Paramètres!$A$4:$A$303,A5,Paramètres!$B$4:$B$303,C5)) -> 12 | N5: =IF(OR(A5="",C5=""),"",SUMIFS(Paramètres!$G$4:$G$303,Paramètres!$A$4:$A$303,A5,Paramètres!$B$4:$B$303,C5)) -> 4 | O5: =IF(OR(A5="",C5=""),"",SUMIFS(Paramètres!$H$4:$H$303,Paramètres!$A$4:$A$303,A5,Paramètres!$B$4:$B$303,C5)) -> 4
A6: Dour | B6: 46277 | C6: Série 1 | D6: ANGELIQUE BULTEZ | E6: H091 | F6: NC | G6: 2 | H6: Poule | I6: Participé | J6: =IF(OR(A6="",C6="",D6=""),"",IF(I6<>"Participé",0,IF(H6="Vainqueur",M6+10,IF(H6="Finaliste",MAX(1,M6-1),IF(H6="Demi-finale",MAX(1,M6-3),IF(H6="Quart de finale",MAX(1,M6-7),IF(H6="Huitième de finale",MAX(1,M6-15),IF(H6="Seizième de finale",MAX(1,M6-31),IF(H6="32e de finale",MAX(1,M6-63),IF(H6="Poule",MAX(1,M6-(N6*SUMIFS(Paramètres!$F$4:$F$303,Paramètres!$A$4:$A$303,A6,Paramètres!$B$4:$B$303,C6)+MAX(0,G6-SUMIFS(Paramètres!$F$4:$F$303,Paramètres!$A$4:$A$303,A6,Paramètres!$B$4:$B$303,C6)-1)*N6+IF(G6=4,SUMIFS(Paramètres!$E$4:$E$303,Paramètres!$A$4:$A$303,A6,Paramètres!$B$4:$B$303,C6),N6)-1)),"")))))))))) -> 5 | K6: =IF(I6="Participé",1,0) -> 1 | L6: =IF(AND(I6="Participé",H6="Vainqueur"),1,0) -> 0 | M6: =IF(OR(A6="",C6=""),"",SUMIFS(Paramètres!$C$4:$C$303,Paramètres!$A$4:$A$303,A6,Paramètres!$B$4:$B$303,C6)) -> 12 | N6: =IF(OR(A6="",C6=""),"",SUMIFS(Paramètres!$G$4:$G$303,Paramètres!$A$4:$A$303,A6,Paramètres!$B$4:$B$303,C6)) -> 4 | O6: =IF(OR(A6="",C6=""),"",SUMIFS(Paramètres!$H$4:$H$303,Paramètres!$A$4:$A$303,A6,Paramètres!$B$4:$B$303,C6)) -> 4
A7: Dour | B7: 46277 | C7: Série 1 | D7: ANTOINE SCHOLLAERT | E7: H091 | F7: E6 | G7: 2 | H7: Poule | I7: Participé | J7: =IF(OR(A7="",C7="",D7=""),"",IF(I7<>"Participé",0,IF(H7="Vainqueur",M7+10,IF(H7="Finaliste",MAX(1,M7-1),IF(H7="Demi-finale",MAX(1,M7-3),IF(H7="Quart de finale",MAX(1,M7-7),IF(H7="Huitième de finale",MAX(1,M7-15),IF(H7="Seizième de finale",MAX(1,M7-31),IF(H7="32e de finale",MAX(1,M7-63),IF(H7="Poule",MAX(1,M7-(N7*SUMIFS(Paramètres!$F$4:$F$303,Paramètres!$A$4:$A$303,A7,Paramètres!$B$4:$B$303,C7)+MAX(0,G7-SUMIFS(Paramètres!$F$4:$F$303,Paramètres!$A$4:$A$303,A7,Paramètres!$B$4:$B$303,C7)-1)*N7+IF(G7=4,SUMIFS(Paramètres!$E$4:$E$303,Paramètres!$A$4:$A$303,A7,Paramètres!$B$4:$B$303,C7),N7)-1)),"")))))))))) -> 5 | K7: =IF(I7="Participé",1,0) -> 1 | L7: =IF(AND(I7="Participé",H7="Vainqueur"),1,0) -> 0 | M7: =IF(OR(A7="",C7=""),"",SUMIFS(Paramètres!$C$4:$C$303,Paramètres!$A$4:$A$303,A7,Paramètres!$B$4:$B$303,C7)) -> 12 | N7: =IF(OR(A7="",C7=""),"",SUMIFS(Paramètres!$G$4:$G$303,Paramètres!$A$4:$A$303,A7,Paramètres!$B$4:$B$303,C7)) -> 4 | O7: =IF(OR(A7="",C7=""),"",SUMIFS(Paramètres!$H$4:$H$303,Paramètres!$A$4:$A$303,A7,Paramètres!$B$4:$B$303,C7)) -> 4
A8: Dour | B8: 46277 | C8: Série 1 | D8: NOA CULOT | E8: H004 | F8: E6 | G8: 1 | H8: Demi-finale | I8: Participé | J8: =IF(OR(A8="",C8="",D8=""),"",IF(I8<>"Participé",0,IF(H8="Vainqueur",M8+10,IF(H8="Finaliste",MAX(1,M8-1),IF(H8="Demi-finale",MAX(1,M8-3),IF(H8="Quart de finale",MAX(1,M8-7),IF(H8="Huitième de finale",MAX(1,M8-15),IF(H8="Seizième de finale",MAX(1,M8-31),IF(H8="32e de finale",MAX(1,M8-63),IF(H8="Poule",MAX(1,M8-(N8*SUMIFS(Paramètres!$F$4:$F$303,Paramètres!$A$4:$A$303,A8,Paramètres!$B$4:$B$303,C8)+MAX(0,G8-SUMIFS(Paramètres!$F$4:$F$303,Paramètres!$A$4:$A$303,A8,Paramètres!$B$4:$B$303,C8)-1)*N8+IF(G8=4,SUMIFS(Paramètres!$E$4:$E$303,Paramètres!$A$4:$A$303,A8,Paramètres!$B$4:$B$303,C8),N8)-1)),"")))))))))) -> 9 | K8: =IF(I8="Participé",1,0) -> 1 | L8: =IF(AND(I8="Participé",H8="Vainqueur"),1,0) -> 0 | M8: =IF(OR(A8="",C8=""),"",SUMIFS(Paramètres!$C$4:$C$303,Paramètres!$A$4:$A$303,A8,Paramètres!$B$4:$B$303,C8)) -> 12 | N8: =IF(OR(A8="",C8=""),"",SUMIFS(Paramètres!$G$4:$G$303,Paramètres!$A$4:$A$303,A8,Paramètres!$B$4:$B$303,C8)) -> 4 | O8: =IF(OR(A8="",C8=""),"",SUMIFS(Paramètres!$H$4:$H$303,Paramètres!$A$4:$A$303,A8,Paramètres!$B$4:$B$303,C8)) -> 4
A9: Dour | B9: 46277 | C9: Série 1 | D9: SEBASTIEN LETORT | E9: H091 | F9: NC | G9: 3 | H9: Poule | I9: Participé | J9: =IF(OR(A9="",C9="",D9=""),"",IF(I9<>"Participé",0,IF(H9="Vainqueur",M9+10,IF(H9="Finaliste",MAX(1,M9-1),IF(H9="Demi-finale",MAX(1,M9-3),IF(H9="Quart de finale",MAX(1,M9-7),IF(H9="Huitième de finale",MAX(1,M9-15),IF(H9="Seizième de finale",MAX(1,M9-31),IF(H9="32e de finale",MAX(1,M9-63),IF(H9="Poule",MAX(1,M9-(N9*SUMIFS(Paramètres!$F$4:$F$303,Paramètres!$A$4:$A$303,A9,Paramètres!$B$4:$B$303,C9)+MAX(0,G9-SUMIFS(Paramètres!$F$4:$F$303,Paramètres!$A$4:$A$303,A9,Paramètres!$B$4:$B$303,C9)-1)*N9+IF(G9=4,SUMIFS(Paramètres!$E$4:$E$303,Paramètres!$A$4:$A$303,A9,Paramètres!$B$4:$B$303,C9),N9)-1)),"")))))))))) -> 1 | K9: =IF(I9="Participé",1,0) -> 1 | L9: =IF(AND(I9="Participé",H9="Vainqueur"),1,0) -> 0 | M9: =IF(OR(A9="",C9=""),"",SUMIFS(Paramètres!$C$4:$C$303,Paramètres!$A$4:$A$303,A9,Paramètres!$B$4:$B$303,C9)) -> 12 | N9: =IF(OR(A9="",C9=""),"",SUMIFS(Paramètres!$G$4:$G$303,Paramètres!$A$4:$A$303,A9,Paramètres!$B$4:$B$303,C9)) -> 4 | O9: =IF(OR(A9="",C9=""),"",SUMIFS(Paramètres!$H$4:$H$303,Paramètres!$A$4:$A$303,A9,Paramètres!$B$4:$B$303,C9)) -> 4
A10: Dour | B10: 46277 | C10: Série 1 | D10: ARTHUR DELFERIERE | E10: H091 | F10: E6 | G10: 1 | H10: Finaliste | I10: Participé | J10: =IF(OR(A10="",C10="",D10=""),"",IF(I10<>"Participé",0,IF(H10="Vainqueur",M10+10,IF(H10="Finaliste",MAX(1,M10-1),IF(H10="Demi-finale",MAX(1,M10-3),IF(H10="Quart de finale",MAX(1,M10-7),IF(H10="Huitième de finale",MAX(1,M10-15),IF(H10="Seizième de finale",MAX(1,M10-31),IF(H10="32e de finale",MAX(1,M10-63),IF(H10="Poule",MAX(1,M10-(N10*SUMIFS(Paramètres!$F$4:$F$303,Paramètres!$A$4:$A$303,A10,Paramètres!$B$4:$B$303,C10)+MAX(0,G10-SUMIFS(Paramètres!$F$4:$F$303,Paramètres!$A$4:$A$303,A10,Paramètres!$B$4:$B$303,C10)-1)*N10+IF(G10=4,SUMIFS(Paramètres!$E$4:$E$303,Paramètres!$A$4:$A$303,A10,Paramètres!$B$4:$B$303,C10),N10)-1)),"")))))))))) -> 11 | K10: =IF(I10="Participé",1,0) -> 1 | L10: =IF(AND(I10="Participé",H10="Vainqueur"),1,0) -> 0 | M10: =IF(OR(A10="",C10=""),"",SUMIFS(Paramètres!$C$4:$C$303,Paramètres!$A$4:$A$303,A10,Paramètres!$B$4:$B$303,C10)) -> 12 | N10: =IF(OR(A10="",C10=""),"",SUMIFS(Paramètres!$G$4:$G$303,Paramètres!$A$4:$A$303,A10,Paramètres!$B$4:$B$303,C10)) -> 4 | O10: =IF(OR(A10="",C10=""),"",SUMIFS(Paramètres!$H$4:$H$303,Paramètres!$A$4:$A$303,A10,Paramètres!$B$4:$B$303,C10)) -> 4
A11: Dour | B11: 46277 | C11: Série 1 | D11: SEBASTIEN DRUEZ | E11: H091 | F11: NC | G11: 3 | H11: Poule | I11: Participé | J11: =IF(OR(A11="",C11="",D11=""),"",IF(I11<>"Participé",0,IF(H11="Vainqueur",M11+10,IF(H11="Finaliste",MAX(1,M11-1),IF(H11="Demi-finale",MAX(1,M11-3),IF(H11="Quart de finale",MAX(1,M11-7),IF(H11="Huitième de finale",MAX(1,M11-15),IF(H11="Seizième de finale",MAX(1,M11-31),IF(H11="32e de finale",MAX(1,M11-63),IF(H11="Poule",MAX(1,M11-(N11*SUMIFS(Paramètres!$F$4:$F$303,Paramètres!$A$4:$A$303,A11,Paramètres!$B$4:$B$303,C11)+MAX(0,G11-SUMIFS(Paramètres!$F$4:$F$303,Paramètres!$A$4:$A$303,A11,Paramètres!$B$4:$B$303,C11)-1)*N11+IF(G11=4,SUMIFS(Paramètres!$E$4:$E$303,Paramètres!$A$4:$A$303,A11,Paramètres!$B$4:$B$303,C11),N11)-1)),"")))))))))) -> 1 | K11: =IF(I11="Participé",1,0) -> 1 | L11: =IF(AND(I11="Participé",H11="Vainqueur"),1,0) -> 0 | M11: =IF(OR(A11="",C11=""),"",SUMIFS(Paramètres!$C$4:$C$303,Paramètres!$A$4:$A$303,A11,Paramètres!$B$4:$B$303,C11)) -> 12 | N11: =IF(OR(A11="",C11=""),"",SUMIFS(Paramètres!$G$4:$G$303,Paramètres!$A$4:$A$303,A11,Paramètres!$B$4:$B$303,C11)) -> 4 | O11: =IF(OR(A11="",C11=""),"",SUMIFS(Paramètres!$H$4:$H$303,Paramètres!$A$4:$A$303,A11,Paramètres!$B$4:$B$303,C11)) -> 4
A12: Dour | B12: 46277 | C12: Série 1 | D12: ERIC BELLEMANS | E12: H091 | F12: NC | G12: 2 | H12: Poule | I12: Participé | J12: =IF(OR(A12="",C12="",D12=""),"",IF(I12<>"Participé",0,IF(H12="Vainqueur",M12+10,IF(H12="Finaliste",MAX(1,M12-1),IF(H12="Demi-finale",MAX(1,M12-3),IF(H12="Quart de finale",MAX(1,M12-7),IF(H12="Huitième de finale",MAX(1,M12-15),IF(H12="Seizième de finale",MAX(1,M12-31),IF(H12="32e de finale",MAX(1,M12-63),IF(H12="Poule",MAX(1,M12-(N12*SUMIFS(Paramètres!$F$4:$F$303,Paramètres!$A$4:$A$303,A12,Paramètres!$B$4:$B$303,C12)+MAX(0,G12-SUMIFS(Paramètres!$F$4:$F$303,Paramètres!$A$4:$A$303,A12,Paramètres!$B$4:$B$303,C12)-1)*N12+IF(G12=4,SUMIFS(Paramètres!$E$4:$E$303,Paramètres!$A$4:$A$303,A12,Paramètres!$B$4:$B$303,C12),N12)-1)),"")))))))))) -> 5 | K12: =IF(I12="Participé",1,0) -> 1 | L12: =IF(AND(I12="Participé",H12="Vainqueur"),1,0) -> 0 | M12: =IF(OR(A12="",C12=""),"",SUMIFS(Paramètres!$C$4:$C$303,Paramètres!$A$4:$A$303,A12,Paramètres!$B$4:$B$303,C12)) -> 12 | N12: =IF(OR(A12="",C12=""),"",SUMIFS(Paramètres!$G$4:$G$303,Paramètres!$A$4:$A$303,A12,Paramètres!$B$4:$B$303,C12)) -> 4 | O12: =IF(OR(A12="",C12=""),"",SUMIFS(Paramètres!$H$4:$H$303,Paramètres!$A$4:$A$303,A12,Paramètres!$B$4:$B$303,C12)) -> 4
A13: Dour | B13: 46277 | C13: Série 1 | D13: TYLER FOURET | E13: H095 | F13: NC | G13: 1 | H13: Vainqueur | I13: Participé | J13: =IF(OR(A13="",C13="",D13=""),"",IF(I13<>"Participé",0,IF(H13="Vainqueur",M13+10,IF(H13="Finaliste",MAX(1,M13-1),IF(H13="Demi-finale",MAX(1,M13-3),IF(H13="Quart de finale",MAX(1,M13-7),IF(H13="Huitième de finale",MAX(1,M13-15),IF(H13="Seizième de finale",MAX(1,M13-31),IF(H13="32e de finale",MAX(1,M13-63),IF(H13="Poule",MAX(1,M13-(N13*SUMIFS(Paramètres!$F$4:$F$303,Paramètres!$A$4:$A$303,A13,Paramètres!$B$4:$B$303,C13)+MAX(0,G13-SUMIFS(Paramètres!$F$4:$F$303,Paramètres!$A$4:$A$303,A13,Paramètres!$B$4:$B$303,C13)-1)*N13+IF(G13=4,SUMIFS(Paramètres!$E$4:$E$303,Paramètres!$A$4:$A$303,A13,Paramètres!$B$4:$B$303,C13),N13)-1)),"")))))))))) -> 22 | K13: =IF(I13="Participé",1,0) -> 1 | L13: =IF(AND(I13="Participé",H13="Vainqueur"),1,0) -> 1 | M13: =IF(OR(A13="",C13=""),"",SUMIFS(Paramètres!$C$4:$C$303,Paramètres!$A$4:$A$303,A13,Paramètres!$B$4:$B$303,C13)) -> 12 | N13: =IF(OR(A13="",C13=""),"",SUMIFS(Paramètres!$G$4:$G$303,Paramètres!$A$4:$A$303,A13,Paramètres!$B$4:$B$303,C13)) -> 4 | O13: =IF(OR(A13="",C13=""),"",SUMIFS(Paramètres!$H$4:$H$303,Paramètres!$A$4:$A$303,A13,Paramètres!$B$4:$B$303,C13)) -> 4
A14: Dour | B14: 46277 | C14: Série 1 | D14: RUDY DELFERRIERE | E14: H091 | F14: NC | G14: 2 | H14: Poule | I14: Participé | J14: =IF(OR(A14="",C14="",D14=""),"",IF(I14<>"Participé",0,IF(H14="Vainqueur",M14+10,IF(H14="Finaliste",MAX(1,M14-1),IF(H14="Demi-finale",MAX(1,M14-3),IF(H14="Quart de finale",MAX(1,M14-7),IF(H14="Huitième de finale",MAX(1,M14-15),IF(H14="Seizième de finale",MAX(1,M14-31),IF(H14="32e de finale",MAX(1,M14-63),IF(H14="Poule",MAX(1,M14-(N14*SUMIFS(Paramètres!$F$4:$F$303,Paramètres!$A$4:$A$303,A14,Paramètres!$B$4:$B$303,C14)+MAX(0,G14-SUMIFS(Paramètres!$F$4:$F$303,Paramètres!$A$4:$A$303,A14,Paramètres!$B$4:$B$303,C14)-1)*N14+IF(G14=4,SUMIFS(Paramètres!$E$4:$E$303,Paramètres!$A$4:$A$303,A14,Paramètres!$B$4:$B$303,C14),N14)-1)),"")))))))))) -> 5 | K14: =IF(I14="Participé",1,0) -> 1 | L14: =IF(AND(I14="Participé",H14="Vainqueur"),1,0) -> 0 | M14: =IF(OR(A14="",C14=""),"",SUMIFS(Paramètres!$C$4:$C$303,Paramètres!$A$4:$A$303,A14,Paramètres!$B$4:$B$303,C14)) -> 12 | N14: =IF(OR(A14="",C14=""),"",SUMIFS(Paramètres!$G$4:$G$303,Paramètres!$A$4:$A$303,A14,Paramètres!$B$4:$B$303,C14)) -> 4 | O14: =IF(OR(A14="",C14=""),"",SUMIFS(Paramètres!$H$4:$H$303,Paramètres!$A$4:$A$303,A14,Paramètres!$B$4:$B$303,C14)) -> 4
A15: Dour | B15: 46277 | C15: Série 1 | D15: JOHAN MACKIEWICZ | E15: H091 | F15: NC | G15: 3 | H15: Poule | I15: Participé | J15: =IF(OR(A15="",C15="",D15=""),"",IF(I15<>"Participé",0,IF(H15="Vainqueur",M15+10,IF(H15="Finaliste",MAX(1,M15-1),IF(H15="Demi-finale",MAX(1,M15-3),IF(H15="Quart de finale",MAX(1,M15-7),IF(H15="Huitième de finale",MAX(1,M15-15),IF(H15="Seizième de finale",MAX(1,M15-31),IF(H15="32e de finale",MAX(1,M15-63),IF(H15="Poule",MAX(1,M15-(N15*SUMIFS(Paramètres!$F$4:$F$303,Paramètres!$A$4:$A$303,A15,Paramètres!$B$4:$B$303,C15)+MAX(0,G15-SUMIFS(Paramètres!$F$4:$F$303,Paramètres!$A$4:$A$303,A15,Paramètres!$B$4:$B$303,C15)-1)*N15+IF(G15=4,SUMIFS(Paramètres!$E$4:$E$303,Paramètres!$A$4:$A$303,A15,Paramètres!$B$4:$B$303,C15),N15)-1)),"")))))))))) -> 1 | K15: =IF(I15="Participé",1,0) -> 1 | L15: =IF(AND(I15="Participé",H15="Vainqueur"),1,0) -> 0 | M15: =IF(OR(A15="",C15=""),"",SUMIFS(Paramètres!$C$4:$C$303,Paramètres!$A$4:$A$303,A15,Paramètres!$B$4:$B$303,C15)) -> 12 | N15: =IF(OR(A15="",C15=""),"",SUMIFS(Paramètres!$G$4:$G$303,Paramètres!$A$4:$A$303,A15,Paramètres!$B$4:$B$303,C15)) -> 4 | O15: =IF(OR(A15="",C15=""),"",SUMIFS(Paramètres!$H$4:$H$303,Paramètres!$A$4:$A$303,A15,Paramètres!$B$4:$B$303,C15)) -> 4
... A93: Dour | B93: 46277 | C93: Série 5 | D93: CHRISTOPHER MANCHE | E93: H306 | F93: C6 | G93: 1 | H93: Demi-finale | I93: Participé | J93: =IF(OR(A93="",C93="",D93=""),"",IF(I93<>"Participé",0,IF(H93="Vainqueur",M93+10,IF(H93="Finaliste",MAX(1,M93-1),IF(H93="Demi-finale",MAX(1,M93-3),IF(H93="Quart de finale",MAX(1,M93-7),IF(H93="Huitième de finale",MAX(1,M93-15),IF(H93="Seizième de finale",MAX(1,M93-31),IF(H93="32e de finale",MAX(1,M93-63),IF(H93="Poule",MAX(1,M93-(N93*SUMIFS(Paramètres!$F$4:$F$303,Paramètres!$A$4:$A$303,A93,Paramètres!$B$4:$B$303,C93)+MAX(0,G93-SUMIFS(Paramètres!$F$4:$F$303,Paramètres!$A$4:$A$303,A93,Paramètres!$B$4:$B$303,C93)-1)*N93+IF(G93=4,SUMIFS(Paramètres!$E$4:$E$303,Paramètres!$A$4:$A$303,A93,Paramètres!$B$4:$B$303,C93),N93)-1)),"")))))))))) -> 11 | K93: =IF(I93="Participé",1,0) -> 1 | L93: =IF(AND(I93="Participé",H93="Vainqueur"),1,0) -> 0 | M93: =IF(OR(A93="",C93=""),"",SUMIFS(Paramètres!$C$4:$C$303,Paramètres!$A$4:$A$303,A93,Paramètres!$B$4:$B$303,C93)) -> 14 | N93: =IF(OR(A93="",C93=""),"",SUMIFS(Paramètres!$G$4:$G$303,Paramètres!$A$4:$A$303,A93,Paramètres!$B$4:$B$303,C93)) -> 5 | O93: =IF(OR(A93="",C93=""),"",SUMIFS(Paramètres!$H$4:$H$303,Paramètres!$A$4:$A$303,A93,Paramètres!$B$4:$B$303,C93)) -> 5
J94: =IF(OR(A94="",C94="",D94=""),"",IF(I94<>"Participé",0,IF(H94="Vainqueur",M94+10,IF(H94="Finaliste",MAX(1,M94-1),IF(H94="Demi-finale",MAX(1,M94-3),IF(H94="Quart de finale",MAX(1,M94-7),IF(H94="Huitième de finale",MAX(1,M94-15),IF(H94="Seizième de finale",MAX(1,M94-31),IF(H94="32e de finale",MAX(1,M94-63),IF(H94="Poule",MAX(1,M94-(N94*SUMIFS(Paramètres!$F$4:$F$303,Paramètres!$A$4:$A$303,A94,Paramètres!$B$4:$B$303,C94)+MAX(0,G94-SUMIFS(Paramètres!$F$4:$F$303,Paramètres!$A$4:$A$303,A94,Paramètres!$B$4:$B$303,C94)-1)*N94+IF(G94=4,SUMIFS(Paramètres!$E$4:$E$303,Paramètres!$A$4:$A$303,A94,Paramètres!$B$4:$B$303,C94),N94)-1)),"")))))))))) | K94: =IF(I94="Participé",1,0) -> 0 | L94: =IF(AND(I94="Participé",H94="Vainqueur"),1,0) -> 0 | M94: =IF(OR(A94="",C94=""),"",SUMIFS(Paramètres!$C$4:$C$303,Paramètres!$A$4:$A$303,A94,Paramètres!$B$4:$B$303,C94)) | N94: =IF(OR(A94="",C94=""),"",SUMIFS(Paramètres!$G$4:$G$303,Paramètres!$A$4:$A$303,A94,Paramètres!$B$4:$B$303,C94)) | O94: =IF(OR(A94="",C94=""),"",SUMIFS(Paramètres!$H$4:$H$303,Paramètres!$A$4:$A$303,A94,Paramètres!$B$4:$B$303,C94))
J95: =IF(OR(A95="",C95="",D95=""),"",IF(I95<>"Participé",0,IF(H95="Vainqueur",M95+10,IF(H95="Finaliste",MAX(1,M95-1),IF(H95="Demi-finale",MAX(1,M95-3),IF(H95="Quart de finale",MAX(1,M95-7),IF(H95="Huitième de finale",MAX(1,M95-15),IF(H95="Seizième de finale",MAX(1,M95-31),IF(H95="32e de finale",MAX(1,M95-63),IF(H95="Poule",MAX(1,M95-(N95*SUMIFS(Paramètres!$F$4:$F$303,Paramètres!$A$4:$A$303,A95,Paramètres!$B$4:$B$303,C95)+MAX(0,G95-SUMIFS(Paramètres!$F$4:$F$303,Paramètres!$A$4:$A$303,A95,Paramètres!$B$4:$B$303,C95)-1)*N95+IF(G95=4,SUMIFS(Paramètres!$E$4:$E$303,Paramètres!$A$4:$A$303,A95,Paramètres!$B$4:$B$303,C95),N95)-1)),"")))))))))) | K95: =IF(I95="Participé",1,0) -> 0 | L95: =IF(AND(I95="Participé",H95="Vainqueur"),1,0) -> 0 | M95: =IF(OR(A95="",C95=""),"",SUMIFS(Paramètres!$C$4:$C$303,Paramètres!$A$4:$A$303,A95,Paramètres!$B$4:$B$303,C95)) | N95: =IF(OR(A95="",C95=""),"",SUMIFS(Paramètres!$G$4:$G$303,Paramètres!$A$4:$A$303,A95,Paramètres!$B$4:$B$303,C95)) | O95: =IF(OR(A95="",C95=""),"",SUMIFS(Paramètres!$H$4:$H$303,Paramètres!$A$4:$A$303,A95,Paramètres!$B$4:$B$303,C95))
J96: =IF(OR(A96="",C96="",D96=""),"",IF(I96<>"Participé",0,IF(H96="Vainqueur",M96+10,IF(H96="Finaliste",MAX(1,M96-1),IF(H96="Demi-finale",MAX(1,M96-3),IF(H96="Quart de finale",MAX(1,M96-7),IF(H96="Huitième de finale",MAX(1,M96-15),IF(H96="Seizième de finale",MAX(1,M96-31),IF(H96="32e de finale",MAX(1,M96-63),IF(H96="Poule",MAX(1,M96-(N96*SUMIFS(Paramètres!$F$4:$F$303,Paramètres!$A$4:$A$303,A96,Paramètres!$B$4:$B$303,C96)+MAX(0,G96-SUMIFS(Paramètres!$F$4:$F$303,Paramètres!$A$4:$A$303,A96,Paramètres!$B$4:$B$303,C96)-1)*N96+IF(G96=4,SUMIFS(Paramètres!$E$4:$E$303,Paramètres!$A$4:$A$303,A96,Paramètres!$B$4:$B$303,C96),N96)-1)),"")))))))))) | K96: =IF(I96="Participé",1,0) -> 0 | L96: =IF(AND(I96="Participé",H96="Vainqueur"),1,0) -> 0 | M96: =IF(OR(A96="",C96=""),"",SUMIFS(Paramètres!$C$4:$C$303,Paramètres!$A$4:$A$303,A96,Paramètres!$B$4:$B$303,C96)) | N96: =IF(OR(A96="",C96=""),"",SUMIFS(Paramètres!$G$4:$G$303,Paramètres!$A$4:$A$303,A96,Paramètres!$B$4:$B$303,C96)) | O96: =IF(OR(A96="",C96=""),"",SUMIFS(Paramètres!$H$4:$H$303,Paramètres!$A$4:$A$303,A96,Paramètres!$B$4:$B$303,C96))
J97: =IF(OR(A97="",C97="",D97=""),"",IF(I97<>"Participé",0,IF(H97="Vainqueur",M97+10,IF(H97="Finaliste",MAX(1,M97-1),IF(H97="Demi-finale",MAX(1,M97-3),IF(H97="Quart de finale",MAX(1,M97-7),IF(H97="Huitième de finale",MAX(1,M97-15),IF(H97="Seizième de finale",MAX(1,M97-31),IF(H97="32e de finale",MAX(1,M97-63),IF(H97="Poule",MAX(1,M97-(N97*SUMIFS(Paramètres!$F$4:$F$303,Paramètres!$A$4:$A$303,A97,Paramètres!$B$4:$B$303,C97)+MAX(0,G97-SUMIFS(Paramètres!$F$4:$F$303,Paramètres!$A$4:$A$303,A97,Paramètres!$B$4:$B$303,C97)-1)*N97+IF(G97=4,SUMIFS(Paramètres!$E$4:$E$303,Paramètres!$A$4:$A$303,A97,Paramètres!$B$4:$B$303,C97),N97)-1)),"")))))))))) | K97: =IF(I97="Participé",1,0) -> 0 | L97: =IF(AND(I97="Participé",H97="Vainqueur"),1,0) -> 0 | M97: =IF(OR(A97="",C97=""),"",SUMIFS(Paramètres!$C$4:$C$303,Paramètres!$A$4:$A$303,A97,Paramètres!$B$4:$B$303,C97)) | N97: =IF(OR(A97="",C97=""),"",SUMIFS(Paramètres!$G$4:$G$303,Paramètres!$A$4:$A$303,A97,Paramètres!$B$4:$B$303,C97)) | O97: =IF(OR(A97="",C97=""),"",SUMIFS(Paramètres!$H$4:$H$303,Paramètres!$A$4:$A$303,A97,Paramètres!$B$4:$B$303,C97))
J98: =IF(OR(A98="",C98="",D98=""),"",IF(I98<>"Participé",0,IF(H98="Vainqueur",M98+10,IF(H98="Finaliste",MAX(1,M98-1),IF(H98="Demi-finale",MAX(1,M98-3),IF(H98="Quart de finale",MAX(1,M98-7),IF(H98="Huitième de finale",MAX(1,M98-15),IF(H98="Seizième de finale",MAX(1,M98-31),IF(H98="32e de finale",MAX(1,M98-63),IF(H98="Poule",MAX(1,M98-(N98*SUMIFS(Paramètres!$F$4:$F$303,Paramètres!$A$4:$A$303,A98,Paramètres!$B$4:$B$303,C98)+MAX(0,G98-SUMIFS(Paramètres!$F$4:$F$303,Paramètres!$A$4:$A$303,A98,Paramètres!$B$4:$B$303,C98)-1)*N98+IF(G98=4,SUMIFS(Paramètres!$E$4:$E$303,Paramètres!$A$4:$A$303,A98,Paramètres!$B$4:$B$303,C98),N98)-1)),"")))))))))) | K98: =IF(I98="Participé",1,0) -> 0 | L98: =IF(AND(I98="Participé",H98="Vainqueur"),1,0) -> 0 | M98: =IF(OR(A98="",C98=""),"",SUMIFS(Paramètres!$C$4:$C$303,Paramètres!$A$4:$A$303,A98,Paramètres!$B$4:$B$303,C98)) | N98: =IF(OR(A98="",C98=""),"",SUMIFS(Paramètres!$G$4:$G$303,Paramètres!$A$4:$A$303,A98,Paramètres!$B$4:$B$303,C98)) | O98: =IF(OR(A98="",C98=""),"",SUMIFS(Paramètres!$H$4:$H$303,Paramètres!$A$4:$A$303,A98,Paramètres!$B$4:$B$303,C98))
J99: =IF(OR(A99="",C99="",D99=""),"",IF(I99<>"Participé",0,IF(H99="Vainqueur",M99+10,IF(H99="Finaliste",MAX(1,M99-1),IF(H99="Demi-finale",MAX(1,M99-3),IF(H99="Quart de finale",MAX(1,M99-7),IF(H99="Huitième de finale",MAX(1,M99-15),IF(H99="Seizième de finale",MAX(1,M99-31),IF(H99="32e de finale",MAX(1,M99-63),IF(H99="Poule",MAX(1,M99-(N99*SUMIFS(Paramètres!$F$4:$F$303,Paramètres!$A$4:$A$303,A99,Paramètres!$B$4:$B$303,C99)+MAX(0,G99-SUMIFS(Paramètres!$F$4:$F$303,Paramètres!$A$4:$A$303,A99,Paramètres!$B$4:$B$303,C99)-1)*N99+IF(G99=4,SUMIFS(Paramètres!$E$4:$E$303,Paramètres!$A$4:$A$303,A99,Paramètres!$B$4:$B$303,C99),N99)-1)),"")))))))))) | K99: =IF(I99="Participé",1,0) -> 0 | L99: =IF(AND(I99="Participé",H99="Vainqueur"),1,0) -> 0 | M99: =IF(OR(A99="",C99=""),"",SUMIFS(Paramètres!$C$4:$C$303,Paramètres!$A$4:$A$303,A99,Paramètres!$B$4:$B$303,C99)) | N99: =IF(OR(A99="",C99=""),"",SUMIFS(Paramètres!$G$4:$G$303,Paramètres!$A$4:$A$303,A99,Paramètres!$B$4:$B$303,C99)) | O99: =IF(OR(A99="",C99=""),"",SUMIFS(Paramètres!$H$4:$H$303,Paramètres!$A$4:$A$303,A99,Paramètres!$B$4:$B$303,C99))
J100: =IF(OR(A100="",C100="",D100=""),"",IF(I100<>"Participé",0,IF(H100="Vainqueur",M100+10,IF(H100="Finaliste",MAX(1,M100-1),IF(H100="Demi-finale",MAX(1,M100-3),IF(H100="Quart de finale",MAX(1,M100-7),IF(H100="Huitième de finale",MAX(1,M100-15),IF(H100="Seizième de finale",MAX(1,M100-31),IF(H100="32e de finale",MAX(1,M100-63),IF(H100="Poule",MAX(1,M100-(N100*SUMIFS(Paramètres!$F$4:$F$303,Paramètres!$A$4:$A$303,A100,Paramètres!$B$4:$B$303,C100)+MAX(0,G100-SUMIFS(Paramètres!$F$4:$F$303,Paramètres!$A$4:$A$303,A100,Paramètres!$B$4:$B$303,C100)-1)*N100+IF(G100=4,SUMIFS(Paramètres!$E$4:$E$303,Paramètres!$A$4:$A$303,A100,Paramètres!$B$4:$B$303,C100),N100)-1)),"")))))))))) | K100: =IF(I100="Participé",1,0) -> 0 | L100: =IF(AND(I100="Participé",H100="Vainqueur"),1,0) -> 0 | M100: =IF(OR(A100="",C100=""),"",SUMIFS(Paramètres!$C$4:$C$303,Paramètres!$A$4:$A$303,A100,Paramètres!$B$4:$B$303,C100)) | N100: =IF(OR(A100="",C100=""),"",SUMIFS(Paramètres!$G$4:$G$303,Paramètres!$A$4:$A$303,A100,Paramètres!$B$4:$B$303,C100)) | O100: =IF(OR(A100="",C100=""),"",SUMIFS(Paramètres!$H$4:$H$303,Paramètres!$A$4:$A$303,A100,Paramètres!$B$4:$B$303,C100))
J101: =IF(OR(A101="",C101="",D101=""),"",IF(I101<>"Participé",0,IF(H101="Vainqueur",M101+10,IF(H101="Finaliste",MAX(1,M101-1),IF(H101="Demi-finale",MAX(1,M101-3),IF(H101="Quart de finale",MAX(1,M101-7),IF(H101="Huitième de finale",MAX(1,M101-15),IF(H101="Seizième de finale",MAX(1,M101-31),IF(H101="32e de finale",MAX(1,M101-63),IF(H101="Poule",MAX(1,M101-(N101*SUMIFS(Paramètres!$F$4:$F$303,Paramètres!$A$4:$A$303,A101,Paramètres!$B$4:$B$303,C101)+MAX(0,G101-SUMIFS(Paramètres!$F$4:$F$303,Paramètres!$A$4:$A$303,A101,Paramètres!$B$4:$B$303,C101)-1)*N101+IF(G101=4,SUMIFS(Paramètres!$E$4:$E$303,Paramètres!$A$4:$A$303,A101,Paramètres!$B$4:$B$303,C101),N101)-1)),"")))))))))) | K101: =IF(I101="Participé",1,0) -> 0 | L101: =IF(AND(I101="Participé",H101="Vainqueur"),1,0) -> 0 | M101: =IF(OR(A101="",C101=""),"",SUMIFS(Paramètres!$C$4:$C$303,Paramètres!$A$4:$A$303,A101,Paramètres!$B$4:$B$303,C101)) | N101: =IF(OR(A101="",C101=""),"",SUMIFS(Paramètres!$G$4:$G$303,Paramètres!$A$4:$A$303,A101,Paramètres!$B$4:$B$303,C101)) | O101: =IF(OR(A101="",C101=""),"",SUMIFS(Paramètres!$H$4:$H$303,Paramètres!$A$4:$A$303,A101,Paramètres!$B$4:$B$303,C101))
J102: =IF(OR(A102="",C102="",D102=""),"",IF(I102<>"Participé",0,IF(H102="Vainqueur",M102+10,IF(H102="Finaliste",MAX(1,M102-1),IF(H102="Demi-finale",MAX(1,M102-3),IF(H102="Quart de finale",MAX(1,M102-7),IF(H102="Huitième de finale",MAX(1,M102-15),IF(H102="Seizième de finale",MAX(1,M102-31),IF(H102="32e de finale",MAX(1,M102-63),IF(H102="Poule",MAX(1,M102-(N102*SUMIFS(Paramètres!$F$4:$F$303,Paramètres!$A$4:$A$303,A102,Paramètres!$B$4:$B$303,C102)+MAX(0,G102-SUMIFS(Paramètres!$F$4:$F$303,Paramètres!$A$4:$A$303,A102,Paramètres!$B$4:$B$303,C102)-1)*N102+IF(G102=4,SUMIFS(Paramètres!$E$4:$E$303,Paramètres!$A$4:$A$303,A102,Paramètres!$B$4:$B$303,C102),N102)-1)),"")))))))))) | K102: =IF(I102="Participé",1,0) -> 0 | L102: =IF(AND(I102="Participé",H102="Vainqueur"),1,0) -> 0 | M102: =IF(OR(A102="",C102=""),"",SUMIFS(Paramètres!$C$4:$C$303,Paramètres!$A$4:$A$303,A102,Paramètres!$B$4:$B$303,C102)) | N102: =IF(OR(A102="",C102=""),"",SUMIFS(Paramètres!$G$4:$G$303,Paramètres!$A$4:$A$303,A102,Paramètres!$B$4:$B$303,C102)) | O102: =IF(OR(A102="",C102=""),"",SUMIFS(Paramètres!$H$4:$H$303,Paramètres!$A$4:$A$303,A102,Paramètres!$B$4:$B$303,C102))
J103: =IF(OR(A103="",C103="",D103=""),"",IF(I103<>"Participé",0,IF(H103="Vainqueur",M103+10,IF(H103="Finaliste",MAX(1,M103-1),IF(H103="Demi-finale",MAX(1,M103-3),IF(H103="Quart de finale",MAX(1,M103-7),IF(H103="Huitième de finale",MAX(1,M103-15),IF(H103="Seizième de finale",MAX(1,M103-31),IF(H103="32e de finale",MAX(1,M103-63),IF(H103="Poule",MAX(1,M103-(N103*SUMIFS(Paramètres!$F$4:$F$303,Paramètres!$A$4:$A$303,A103,Paramètres!$B$4:$B$303,C103)+MAX(0,G103-SUMIFS(Paramètres!$F$4:$F$303,Paramètres!$A$4:$A$303,A103,Paramètres!$B$4:$B$303,C103)-1)*N103+IF(G103=4,SUMIFS(Paramètres!$E$4:$E$303,Paramètres!$A$4:$A$303,A103,Paramètres!$B$4:$B$303,C103),N103)-1)),"")))))))))) | K103: =IF(I103="Participé",1,0) -> 0 | L103: =IF(AND(I103="Participé",H103="Vainqueur"),1,0) -> 0 | M103: =IF(OR(A103="",C103=""),"",SUMIFS(Paramètres!$C$4:$C$303,Paramètres!$A$4:$A$303,A103,Paramètres!$B$4:$B$303,C103)) | N103: =IF(OR(A103="",C103=""),"",SUMIFS(Paramètres!$G$4:$G$303,Paramètres!$A$4:$A$303,A103,Paramètres!$B$4:$B$303,C103)) | O103: =IF(OR(A103="",C103=""),"",SUMIFS(Paramètres!$H$4:$H$303,Paramètres!$A$4:$A$303,A103,Paramètres!$B$4:$B$303,C103))
J104: =IF(OR(A104="",C104="",D104=""),"",IF(I104<>"Participé",0,IF(H104="Vainqueur",M104+10,IF(H104="Finaliste",MAX(1,M104-1),IF(H104="Demi-finale",MAX(1,M104-3),IF(H104="Quart de finale",MAX(1,M104-7),IF(H104="Huitième de finale",MAX(1,M104-15),IF(H104="Seizième de finale",MAX(1,M104-31),IF(H104="32e de finale",MAX(1,M104-63),IF(H104="Poule",MAX(1,M104-(N104*SUMIFS(Paramètres!$F$4:$F$303,Paramètres!$A$4:$A$303,A104,Paramètres!$B$4:$B$303,C104)+MAX(0,G104-SUMIFS(Paramètres!$F$4:$F$303,Paramètres!$A$4:$A$303,A104,Paramètres!$B$4:$B$303,C104)-1)*N104+IF(G104=4,SUMIFS(Paramètres!$E$4:$E$303,Paramètres!$A$4:$A$303,A104,Paramètres!$B$4:$B$303,C104),N104)-1)),"")))))))))) | K104: =IF(I104="Participé",1,0) -> 0 | L104: =IF(AND(I104="Participé",H104="Vainqueur"),1,0) -> 0 | M104: =IF(OR(A104="",C104=""),"",SUMIFS(Paramètres!$C$4:$C$303,Paramètres!$A$4:$A$303,A104,Paramètres!$B$4:$B$303,C104)) | N104: =IF(OR(A104="",C104=""),"",SUMIFS(Paramètres!$G$4:$G$303,Paramètres!$A$4:$A$303,A104,Paramètres!$B$4:$B$303,C104)) | O104: =IF(OR(A104="",C104=""),"",SUMIFS(Paramètres!$H$4:$H$303,Paramètres!$A$4:$A$303,A104,Paramètres!$B$4:$B$303,C104))
J105: =IF(OR(A105="",C105="",D105=""),"",IF(I105<>"Participé",0,IF(H105="Vainqueur",M105+10,IF(H105="Finaliste",MAX(1,M105-1),IF(H105="Demi-finale",MAX(1,M105-3),IF(H105="Quart de finale",MAX(1,M105-7),IF(H105="Huitième de finale",MAX(1,M105-15),IF(H105="Seizième de finale",MAX(1,M105-31),IF(H105="32e de finale",MAX(1,M105-63),IF(H105="Poule",MAX(1,M105-(N105*SUMIFS(Paramètres!$F$4:$F$303,Paramètres!$A$4:$A$303,A105,Paramètres!$B$4:$B$303,C105)+MAX(0,G105-SUMIFS(Paramètres!$F$4:$F$303,Paramètres!$A$4:$A$303,A105,Paramètres!$B$4:$B$303,C105)-1)*N105+IF(G105=4,SUMIFS(Paramètres!$E$4:$E$303,Paramètres!$A$4:$A$303,A105,Paramètres!$B$4:$B$303,C105),N105)-1)),"")))))))))) | K105: =IF(I105="Participé",1,0) -> 0 | L105: =IF(AND(I105="Participé",H105="Vainqueur"),1,0) -> 0 | M105: =IF(OR(A105="",C105=""),"",SUMIFS(Paramètres!$C$4:$C$303,Paramètres!$A$4:$A$303,A105,Paramètres!$B$4:$B$303,C105)) | N105: =IF(OR(A105="",C105=""),"",SUMIFS(Paramètres!$G$4:$G$303,Paramètres!$A$4:$A$303,A105,Paramètres!$B$4:$B$303,C105)) | O105: =IF(OR(A105="",C105=""),"",SUMIFS(Paramètres!$H$4:$H$303,Paramètres!$A$4:$A$303,A105,Paramètres!$B$4:$B$303,C105))
... J3001: =IF(OR(A3001="",C3001="",D3001=""),"",IF(I3001<>"Participé",0,IF(H3001="Vainqueur",M3001+10,IF(H3001="Finaliste",MAX(1,M3001-1),IF(H3001="Demi-finale",MAX(1,M3001-3),IF(H3001="Quart de finale",MAX(1,M3001-7),IF(H3001="Huitième de finale",MAX(1,M3001-15),IF(H3001="Seizième de finale",MAX(1,M3001-31),IF(H3001="32e de finale",MAX(1,M3001-63),IF(H3001="Poule",MAX(1,M3001-(N3001*SUMIFS(Paramètres!$F$4:$F$303,Paramètres!$A$4:$A$303,A3001,Paramètres!$B$4:$B$303,C3001)+MAX(0,G3001-SUMIFS(Paramètres!$F$4:$F$303,Paramètres!$A$4:$A$303,A3001,Paramètres!$B$4:$B$303,C3001)-1)*N3001+IF(G3001=4,SUMIFS(Paramètres!$E$4:$E$303,Paramètres!$A$4:$A$303,A3001,Paramètres!$B$4:$B$303,C3001),N3001)-1)),"")))))))))) | K3001: =IF(I3001="Participé",1,0) -> 0 | L3001: =IF(AND(I3001="Participé",H3001="Vainqueur"),1,0) -> 0 | M3001: =IF(OR(A3001="",C3001=""),"",SUMIFS(Paramètres!$C$4:$C$303,Paramètres!$A$4:$A$303,A3001,Paramètres!$B$4:$B$303,C3001)) | N3001: =IF(OR(A3001="",C3001=""),"",SUMIFS(Paramètres!$G$4:$G$303,Paramètres!$A$4:$A$303,A3001,Paramètres!$B$4:$B$303,C3001)) | O3001: =IF(OR(A3001="",C3001=""),"",SUMIFS(Paramètres!$H$4:$H$303,Paramètres!$A$4:$A$303,A3001,Paramètres!$B$4:$B$303,C3001))

Sheet Série 1
A1: CLASSEMENT GÉNÉRAL – E6-NC
A3: Rang | B3: Joueur | C3: Club | D3: Participations | E3: Total 7 meilleurs | F3: Victoires | G3: 8e résultat | H3: Meilleur | I3: 2e meilleur | J3: 3e meilleur | K3: 4e meilleur | L3: 5e meilleur | M3: 6e meilleur | N3: 7e meilleur | O3: 9e résultat | P3: 10e résultat | Q3: Éligible | T3: Joueur | U3: Club | V3: Participations | W3: Victoires | X3: Meilleur | Y3: 2e | Z3: 3e | AA3: 4e | AB3: 5e | AC3: 6e | AD3: 7e | AE3: 8e | AF3: 9e | AG3: 10e | AH3: Total 7 | AI3: Éligible | AJ3: Clé tri
B4: TYLER FOURET | C4: H095 | D4: 1 | E4: 22 | F4: 1 | G4: 0 | H4: 22 | I4: 0 | J4: 0 | K4: 0 | L4: 0 | M4: 0 | N4: 0 | O4: 0 | P4: 0 | Q4: Non
B5: ARTHUR DELFERIERE | C5: H091 | D5: 1 | E5: 11 | F5: 0 | G5: 0 | H5: 11 | I5: 0 | J5: 0 | K5: 0 | L5: 0 | M5: 0 | N5: 0 | O5: 0 | P5: 0 | Q5: Non
B6: NOA CULOT | C6: H004 | D6: 1 | E6: 9 | F6: 0 | G6: 0 | H6: 9 | I6: 0 | J6: 0 | K6: 0 | L6: 0 | M6: 0 | N6: 0 | O6: 0 | P6: 0 | Q6: Non
B7: TOM GOULEM | C7: H091 | D7: 1 | E7: 9 | F7: 0 | G7: 0 | H7: 9 | I7: 0 | J7: 0 | K7: 0 | L7: 0 | M7: 0 | N7: 0 | O7: 0 | P7: 0 | Q7: Non
B8: ANGELIQUE BULTEZ | C8: H091 | D8: 1 | E8: 5 | F8: 0 | G8: 0 | H8: 5 | I8: 0 | J8: 0 | K8: 0 | L8: 0 | M8: 0 | N8: 0 | O8: 0 | P8: 0 | Q8: Non
B9: ANTOINE SCHOLLAERT | C9: H091 | D9: 1 | E9: 5 | F9: 0 | G9: 0 | H9: 5 | I9: 0 | J9: 0 | K9: 0 | L9: 0 | M9: 0 | N9: 0 | O9: 0 | P9: 0 | Q9: Non
B10: ERIC BELLEMANS | C10: H091 | D10: 1 | E10: 5 | F10: 0 | G10: 0 | H10: 5 | I10: 0 | J10: 0 | K10: 0 | L10: 0 | M10: 0 | N10: 0 | O10: 0 | P10: 0 | Q10: Non
B11: RUDY DELFERRIERE | C11: H091 | D11: 1 | E11: 5 | F11: 0 | G11: 0 | H11: 5 | I11: 0 | J11: 0 | K11: 0 | L11: 0 | M11: 0 | N11: 0 | O11: 0 | P11: 0 | Q11: Non
B12: JOHAN MACKIEWICZ | C12: H091 | D12: 1 | E12: 1 | F12: 0 | G12: 0 | H12: 1 | I12: 0 | J12: 0 | K12: 0 | L12: 0 | M12: 0 | N12: 0 | O12: 0 | P12: 0 | Q12: Non
B13: MARTINE VAN REEPINGEN | C13: H091 | D13: 1 | E13: 1 | F13: 0 | G13: 0 | H13: 1 | I13: 0 | J13: 0 | K13: 0 | L13: 0 | M13: 0 | N13: 0 | O13: 0 | P13: 0 | Q13: Non
B14: SEBASTIEN DRUEZ | C14: H091 | D14: 1 | E14: 1 | F14: 0 | G14: 0 | H14: 1 | I14: 0 | J14: 0 | K14: 0 | L14: 0 | M14: 0 | N14: 0 | O14: 0 | P14: 0 | Q14: Non
B15: SEBASTIEN LETORT | C15: H091 | D15: 1 | E15: 1 | F15: 0 | G15: 0 | H15: 1 | I15: 0 | J15: 0 | K15: 0 | L15: 0 | M15: 0 | N15: 0 | O15: 0 | P15: 0 | Q15: Non

Sheet Série 2
A1: CLASSEMENT GÉNÉRAL – E0-E2-E4
A3: Rang | B3: Joueur | C3: Club | D3: Participations | E3: Total 7 meilleurs | F3: Victoires | G3: 8e résultat | H3: Meilleur | I3: 2e meilleur | J3: 3e meilleur | K3: 4e meilleur | L3: 5e meilleur | M3: 6e meilleur | N3: 7e meilleur | O3: 9e résultat | P3: 10e résultat | Q3: Éligible | T3: Joueur | U3: Club | V3: Participations | W3: Victoires | X3: Meilleur | Y3: 2e | Z3: 3e | AA3: 4e | AB3: 5e | AC3: 6e | AD3: 7e | AE3: 8e | AF3: 9e | AG3: 10e | AH3: Total 7 | AI3: Éligible | AJ3: Clé tri
B4: EMMANUELLE SARTIAUX | C4: H384 | D4: 1 | E4: 31 | F4: 1 | G4: 0 | H4: 31 | I4: 0 | J4: 0 | K4: 0 | L4: 0 | M4: 0 | N4: 0 | O4: 0 | P4: 0 | Q4: Non
B5: ROWAN DEPRET | C5: H356 | D5: 1 | E5: 20 | F5: 0 | G5: 0 | H5: 20 | I5: 0 | J5: 0 | K5: 0 | L5: 0 | M5: 0 | N5: 0 | O5: 0 | P5: 0 | Q5: Non
B6: DAVID WILLEMS | C6: H218 | D6: 1 | E6: 18 | F6: 0 | G6: 0 | H6: 18 | I6: 0 | J6: 0 | K6: 0 | L6: 0 | M6: 0 | N6: 0 | O6: 0 | P6: 0 | Q6: Non
B7: ROMAIN FORTEMPS | C7: H220 | D7: 1 | E7: 18 | F7: 0 | G7: 0 | H7: 18 | I7: 0 | J7: 0 | K7: 0 | L7: 0 | M7: 0 | N7: 0 | O7: 0 | P7: 0 | Q7: Non
B8: JASON DESOER | C8: H443 | D8: 1 | E8: 14 | F8: 0 | G8: 0 | H8: 14 | I8: 0 | J8: 0 | K8: 0 | L8: 0 | M8: 0 | N8: 0 | O8: 0 | P8: 0 | Q8: Non
B9: MAXIME ANTOINE | C9: H200 | D9: 1 | E9: 14 | F9: 0 | G9: 0 | H9: 14 | I9: 0 | J9: 0 | K9: 0 | L9: 0 | M9: 0 | N9: 0 | O9: 0 | P9: 0 | Q9: Non
B10: THEO CULOT | C10: H004 | D10: 1 | E10: 14 | F10: 0 | G10: 0 | H10: 14 | I10: 0 | J10: 0 | K10: 0 | L10: 0 | M10: 0 | N10: 0 | O10: 0 | P10: 0 | Q10: Non
B11: ALAIN PROVOST | C11: H253 | D11: 1 | E11: 8 | F11: 0 | G11: 0 | H11: 8 | I11: 0 | J11: 0 | K11: 0 | L11: 0 | M11: 0 | N11: 0 | O11: 0 | P11: 0 | Q11: Non
B12: BENOIT ANTOINE | C12: H200 | D12: 1 | E12: 8 | F12: 0 | G12: 0 | H12: 8 | I12: 0 | J12: 0 | K12: 0 | L12: 0 | M12: 0 | N12: 0 | O12: 0 | P12: 0 | Q12: Non
B13: CARLOS SEGURA PINA | C13: H200 | D13: 1 | E13: 8 | F13: 0 | G13: 0 | H13: 8 | I13: 0 | J13: 0 | K13: 0 | L13: 0 | M13: 0 | N13: 0 | O13: 0 | P13: 0 | Q13: Non
B14: DANY DEPRET | C14: H356 | D14: 1 | E14: 8 | F14: 0 | G14: 0 | H14: 8 | I14: 0 | J14: 0 | K14: 0 | L14: 0 | M14: 0 | N14: 0 | O14: 0 | P14: 0 | Q14: Non
B15: MATHIEU SWALENS | C15: H290 | D15: 1 | E15: 8 | F15: 0 | G15: 0 | H15: 8 | I15: 0 | J15: 0 | K15: 0 | L15: 0 | M15: 0 | N15: 0 | O15: 0 | P15: 0 | Q15: Non
... B24: NOE STIEVENART | C24: H091 | D24: 0 | E24: 0 | F24: 0 | G24: 0 | H24: 0 | I24: 0 | J24: 0 | K24: 0 | L24: 0 | M24: 0 | N24: 0 | O24: 0 | P24: 0 | Q24: Non

Sheet Série 3
A1: CLASSEMENT GÉNÉRAL – D2-D4-D6
A3: Rang | B3: Joueur | C3: Club | D3: Participations | E3: Total 7 meilleurs | F3: Victoires | G3: 8e résultat | H3: Meilleur | I3: 2e meilleur | J3: 3e meilleur | K3: 4e meilleur | L3: 5e meilleur | M3: 6e meilleur | N3: 7e meilleur | O3: 9e résultat | P3: 10e résultat | Q3: Éligible | T3: Joueur | U3: Club | V3: Participations | W3: Victoires | X3: Meilleur | Y3: 2e | Z3: 3e | AA3: 4e | AB3: 5e | AC3: 6e | AD3: 7e | AE3: 8e | AF3: 9e | AG3: 10e | AH3: Total 7 | AI3: Éligible | AJ3: Clé tri
B4: LEEROY BOURGUET | C4: H099 | D4: 1 | E4: 31 | F4: 1 | G4: 0 | H4: 31 | I4: 0 | J4: 0 | K4: 0 | L4: 0 | M4: 0 | N4: 0 | O4: 0 | P4: 0 | Q4: Non
B5: MIROSLAV DUBOIS | C5: H384 | D5: 1 | E5: 20 | F5: 0 | G5: 0 | H5: 20 | I5: 0 | J5: 0 | K5: 0 | L5: 0 | M5: 0 | N5: 0 | O5: 0 | P5: 0 | Q5: Non
B6: CHARLES ANTOINE | C6: H200 | D6: 1 | E6: 18 | F6: 0 | G6: 0 | H6: 18 | I6: 0 | J6: 0 | K6: 0 | L6: 0 | M6: 0 | N6: 0 | O6: 0 | P6: 0 | Q6: Non
B7: SAMUEL FONTAINE | C7: H356 | D7: 1 | E7: 18 | F7: 0 | G7: 0 | H7: 18 | I7: 0 | J7: 0 | K7: 0 | L7: 0 | M7: 0 | N7: 0 | O7: 0 | P7: 0 | Q7: Non
B8: ENZO IALIPRETE | C8: H004 | D8: 1 | E8: 14 | F8: 0 | G8: 0 | H8: 14 | I8: 0 | J8: 0 | K8: 0 | L8: 0 | M8: 0 | N8: 0 | O8: 0 | P8: 0 | Q8: Non
B9: JONATHAN ROBERT | C9: H091 | D9: 1 | E9: 14 | F9: 0 | G9: 0 | H9: 14 | I9: 0 | J9: 0 | K9: 0 | L9: 0 | M9: 0 | N9: 0 | O9: 0 | P9: 0 | Q9: Non
B10: REMI MAECK | C10: H004 | D10: 1 | E10: 14 | F10: 0 | G10: 0 | H10: 14 | I10: 0 | J10: 0 | K10: 0 | L10: 0 | M10: 0 | N10: 0 | O10: 0 | P10: 0 | Q10: Non
B11: ALAIN PROVOST | C11: H253 | D11: 1 | E11: 8 | F11: 0 | G11: 0 | H11: 8 | I11: 0 | J11: 0 | K11: 0 | L11: 0 | M11: 0 | N11: 0 | O11: 0 | P11: 0 | Q11: Non
B12: BENOIT ANTOINE | C12: H200 | D12: 1 | E12: 8 | F12: 0 | G12: 0 | H12: 8 | I12: 0 | J12: 0 | K12: 0 | L12: 0 | M12: 0 | N12: 0 | O12: 0 | P12: 0 | Q12: Non
B13: JASON DESOER | C13: H443 | D13: 1 | E13: 8 | F13: 0 | G13: 0 | H13: 8 | I13: 0 | J13: 0 | K13: 0 | L13: 0 | M13: 0 | N13: 0 | O13: 0 | P13: 0 | Q13: Non
B14: MATHIEU SWALENS | C14: H290 | D14: 1 | E14: 8 | F14: 0 | G14: 0 | H14: 8 | I14: 0 | J14: 0 | K14: 0 | L14: 0 | M14: 0 | N14: 0 | O14: 0 | P14: 0 | Q14: Non
B15: PHILIPPE GOULEM | C15: H091 | D15: 1 | E15: 8 | F15: 0 | G15: 0 | H15: 8 | I15: 0 | J15: 0 | K15: 0 | L15: 0 | M15: 0 | N15: 0 | O15: 0 | P15: 0 | Q15: Non
... B24: DENIS LEFEBVRE | C24: H009 | D24: 0 | E24: 0 | F24: 0 | G24: 0 | H24: 0 | I24: 0 | J24: 0 | K24: 0 | L24: 0 | M24: 0 | N24: 0 | O24: 0 | P24: 0 | Q24: Non

Sheet Série 4
A1: CLASSEMENT GÉNÉRAL – C4-C6-D0
A3: Rang | B3: Joueur | C3: Club | D3: Participations | E3: Total 7 meilleurs | F3: Victoires | G3: 8e résultat | H3: Meilleur | I3: 2e meilleur | J3: 3e meilleur | K3: 4e meilleur | L3: 5e meilleur | M3: 6e meilleur | N3: 7e meilleur | O3: 9e résultat | P3: 10e résultat | Q3: Éligible | T3: Joueur | U3: Club | V3: Participations | W3: Victoires | X3: Meilleur | Y3: 2e | Z3: 3e | AA3: 4e | AB3: 5e | AC3: 6e | AD3: 7e | AE3: 8e | AF3: 9e | AG3: 10e | AH3: Total 7 | AI3: Éligible | AJ3: Clé tri
B4: JEYSON VANCAUWENBERGHE | C4: H443 | D4: 1 | E4: 30 | F4: 1 | G4: 0 | H4: 30 | I4: 0 | J4: 0 | K4: 0 | L4: 0 | M4: 0 | N4: 0 | O4: 0 | P4: 0 | Q4: Non
B5: AURELIEN SOURICE | C5: H099 | D5: 1 | E5: 19 | F5: 0 | G5: 0 | H5: 19 | I5: 0 | J5: 0 | K5: 0 | L5: 0 | M5: 0 | N5: 0 | O5: 0 | P5: 0 | Q5: Non
B6: GEERT ROOS | C6: OVL052 | D6: 1 | E6: 17 | F6: 0 | G6: 0 | H6: 17 | I6: 0 | J6: 0 | K6: 0 | L6: 0 | M6: 0 | N6: 0 | O6: 0 | P6: 0 | Q6: Non
B7: PIERRE BERTIAU | C7: H091 | D7: 1 | E7: 17 | F7: 0 | G7: 0 | H7: 17 | I7: 0 | J7: 0 | K7: 0 | L7: 0 | M7: 0 | N7: 0 | O7: 0 | P7: 0 | Q7: Non
B8: BRYTON VAILLANT | C8: H290 | D8: 1 | E8: 13 | F8: 0 | G8: 0 | H8: 13 | I8: 0 | J8: 0 | K8: 0 | L8: 0 | M8: 0 | N8: 0 | O8: 0 | P8: 0 | Q8: Non
B9: JULIEN MAS | C9: H443 | D9: 1 | E9: 13 | F9: 0 | G9: 0 | H9: 13 | I9: 0 | J9: 0 | K9: 0 | L9: 0 | M9: 0 | N9: 0 | O9: 0 | P9: 0 | Q9: Non
B10: LEEROY BOURGUET | C10: H099 | D10: 1 | E10: 13 | F10: 0 | G10: 0 | H10: 13 | I10: 0 | J10: 0 | K10: 0 | L10: 0 | M10: 0 | N10: 0 | O10: 0 | P10: 0 | Q10: Non
B11: CHARLES ANTOINE | C11: H200 | D11: 1 | E11: 7 | F11: 0 | G11: 0 | H11: 7 | I11: 0 | J11: 0 | K11: 0 | L11: 0 | M11: 0 | N11: 0 | O11: 0 | P11: 0 | Q11: Non
B12: CHRISTOPHER MANCHE | C12: H306 | D12: 1 | E12: 7 | F12: 0 | G12: 0 | H12: 7 | I12: 0 | J12: 0 | K12: 0 | L12: 0 | M12: 0 | N12: 0 | O12: 0 | P12: 0 | Q12: Non
B13: JEAN-FRANCOIS CULOT | C13: H004 | D13: 1 | E13: 7 | F13: 0 | G13: 0 | H13: 7 | I13: 0 | J13: 0 | K13: 0 | L13: 0 | M13: 0 | N13: 0 | O13: 0 | P13: 0 | Q13: Non
B14: JONATHAN ROBERT | C14: H091 | D14: 1 | E14: 7 | F14: 0 | G14: 0 | H14: 7 | I14: 0 | J14: 0 | K14: 0 | L14: 0 | M14: 0 | N14: 0 | O14: 0 | P14: 0 | Q14: Non
B15: JORDY SCARCERIAUX | C15: H384 | D15: 1 | E15: 7 | F15: 0 | G15: 0 | H15: 7 | I15: 0 | J15: 0 | K15: 0 | L15: 0 | M15: 0 | N15: 0 | O15: 0 | P15: 0 | Q15: Non
... B23: SAMUEL FONTAINE | C23: H356 | D23: 1 | E23: 1 | F23: 0 | G23: 0 | H23: 1 | I23: 0 | J23: 0 | K23: 0 | L23: 0 | M23: 0 | N23: 0 | O23: 0 | P23: 0 | Q23: Non

Sheet Série 5
A1: CLASSEMENT GÉNÉRAL – B6-C0-C2
A3: Rang | B3: Joueur | C3: Club | D3: Participations | E3: Total 7 meilleurs | F3: Victoires | G3: 8e résultat | H3: Meilleur | I3: 2e meilleur | J3: 3e meilleur | K3: 4e meilleur | L3: 5e meilleur | M3: 6e meilleur | N3: 7e meilleur | O3: 9e résultat | P3: 10e résultat | Q3: Éligible | T3: Joueur | U3: Club | V3: Participations | W3: Victoires | X3: Meilleur | Y3: 2e | Z3: 3e | AA3: 4e | AB3: 5e | AC3: 6e | AD3: 7e | AE3: 8e | AF3: 9e | AG3: 10e | AH3: Total 7 | AI3: Éligible | AJ3: Clé tri
B4: KENNY FISSIAUX | C4: H091 | D4: 1 | E4: 24 | F4: 1 | G4: 0 | H4: 24 | I4: 0 | J4: 0 | K4: 0 | L4: 0 | M4: 0 | N4: 0 | O4: 0 | P4: 0 | Q4: Non
B5: JEYSON VANCAUWENBERGHE | C5: H443 | D5: 1 | E5: 13 | F5: 0 | G5: 0 | H5: 13 | I5: 0 | J5: 0 | K5: 0 | L5: 0 | M5: 0 | N5: 0 | O5: 0 | P5: 0 | Q5: Non
B6: CHRISTOPHER MANCHE | C6: H306 | D6: 1 | E6: 11 | F6: 0 | G6: 0 | H6: 11 | I6: 0 | J6: 0 | K6: 0 | L6: 0 | M6: 0 | N6: 0 | O6: 0 | P6: 0 | Q6: Non
B7: JULIEN MAS | C7: H443 | D7: 1 | E7: 11 | F7: 0 | G7: 0 | H7: 11 | I7: 0 | J7: 0 | K7: 0 | L7: 0 | M7: 0 | N7: 0 | O7: 0 | P7: 0 | Q7: Non
B8: AURELIEN SOURICE | C8: H099 | D8: 1 | E8: 7 | F8: 0 | G8: 0 | H8: 7 | I8: 0 | J8: 0 | K8: 0 | L8: 0 | M8: 0 | N8: 0 | O8: 0 | P8: 0 | Q8: Non
B9: JEAN-FRANCOIS CULOT | C9: H004 | D9: 1 | E9: 5 | F9: 0 | G9: 0 | H9: 5 | I9: 0 | J9: 0 | K9: 0 | L9: 0 | M9: 0 | N9: 0 | O9: 0 | P9: 0 | Q9: Non
B10: LOAN PIRET | C10: H099 | D10: 1 | E10: 5 | F10: 0 | G10: 0 | H10: 5 | I10: 0 | J10: 0 | K10: 0 | L10: 0 | M10: 0 | N10: 0 | O10: 0 | P10: 0 | Q10: Non
B11: MASSIMO MORAZZINI | C11: H091 | D11: 1 | E11: 5 | F11: 0 | G11: 0 | H11: 5 | I11: 0 | J11: 0 | K11: 0 | L11: 0 | M11: 0 | N11: 0 | O11: 0 | P11: 0 | Q11: Non
B12: MATHIAS ROOS | C12: OVL052 | D12: 1 | E12: 5 | F12: 0 | G12: 0 | H12: 5 | I12: 0 | J12: 0 | K12: 0 | L12: 0 | M12: 0 | N12: 0 | O12: 0 | P12: 0 | Q12: Non
B13: PIERRE BERTIAU | C13: H091 | D13: 1 | E13: 5 | F13: 0 | G13: 0 | H13: 5 | I13: 0 | J13: 0 | K13: 0 | L13: 0 | M13: 0 | N13: 0 | O13: 0 | P13: 0 | Q13: Non
B14: ANTOINE VAN DRIESSCHE | C14: H099 | D14: 1 | E14: 1 | F14: 0 | G14: 0 | H14: 1 | I14: 0 | J14: 0 | K14: 0 | L14: 0 | M14: 0 | N14: 0 | O14: 0 | P14: 0 | Q14: Non
B15: GEERT ROOS | C15: OVL052 | D15: 1 | E15: 1 | F15: 0 | G15: 0 | H15: 1 | I15: 0 | J15: 0 | K15: 0 | L15: 0 | M15: 0 | N15: 0 | O15: 0 | P15: 0 | Q15: Non
... B17: JORDY SCARCERIAUX | C17: H384 | D17: 1 | E17: 1 | F17: 0 | G17: 0 | H17: 1 | I17: 0 | J17: 0 | K17: 0 | L17: 0 | M17: 0 | N17: 0 | O17: 0 | P17: 0 | Q17: Non

Sheet Série 6
A1: CLASSEMENT GÉNÉRAL – B0-B2-B4
A3: Rang | B3: Joueur | C3: Club | D3: Participations | E3: Total 7 meilleurs | F3: Victoires | G3: 8e résultat | H3: Meilleur | I3: 2e meilleur | J3: 3e meilleur | K3: 4e meilleur | L3: 5e meilleur | M3: 6e meilleur | N3: 7e meilleur | O3: 9e résultat | P3: 10e résultat | Q3: Éligible | T3: Joueur | U3: Club | V3: Participations | W3: Victoires | X3: Meilleur | Y3: 2e | Z3: 3e | AA3: 4e | AB3: 5e | AC3: 6e | AD3: 7e | AE3: 8e | AF3: 9e | AG3: 10e | AH3: Total 7 | AI3: Éligible | AJ3: Clé tri
B4: KENNY FISSIAUX | C4: H091 | D4: 1 | E4: 12 | F4: 1 | G4: 0 | H4: 12 | I4: 0 | J4: 0 | K4: 0 | L4: 0 | M4: 0 | N4: 0 | O4: 0 | P4: 0 | Q4: Non
B5: LOAN PIRET | C5: H099 | D5: 1 | E5: 1 | F5: 0 | G5: 0 | H5: 1 | I5: 0 | J5: 0 | K5: 0 | L5: 0 | M5: 0 | N5: 0 | O5: 0 | P5: 0 | Q5: Non

Sheet Série 7
A1: CLASSEMENT GÉNÉRAL – SÉRIE 7
A3: Rang | B3: Joueur | C3: Club | D3: Participations | E3: Total 7 meilleurs | F3: Victoires | G3: 8e résultat | H3: Meilleur | I3: 2e meilleur | J3: 3e meilleur | K3: 4e meilleur | L3: 5e meilleur | M3: 6e meilleur | N3: 7e meilleur | O3: 9e résultat | P3: 10e résultat | Q3: Éligible | T3: Joueur | U3: Club | V3: Participations | W3: Victoires | X3: Meilleur | Y3: 2e | Z3: 3e | AA3: 4e | AB3: 5e | AC3: 6e | AD3: 7e | AE3: 8e | AF3: 9e | AG3: 10e | AH3: Total 7 | AI3: Éligible | AJ3: Clé tri

Sheet Série 8
A1: CLASSEMENT GÉNÉRAL – SÉRIE 8
A3: Rang | B3: Joueur | C3: Club | D3: Participations | E3: Total 7 meilleurs | F3: Victoires | G3: 8e résultat | H3: Meilleur | I3: 2e meilleur | J3: 3e meilleur | K3: 4e meilleur | L3: 5e meilleur | M3: 6e meilleur | N3: 7e meilleur | O3: 9e résultat | P3: 10e résultat | Q3: Éligible | T3: Joueur | U3: Club | V3: Participations | W3: Victoires | X3: Meilleur | Y3: 2e | Z3: 3e | AA3: 4e | AB3: 5e | AC3: 6e | AD3: 7e | AE3: 8e | AF3: 9e | AG3: 10e | AH3: Total 7 | AI3: Éligible | AJ3: Clé tri

Sheet Série 9
A1: CLASSEMENT GÉNÉRAL – SÉRIE 9
A3: Rang | B3: Joueur | C3: Club | D3: Participations | E3: Total 7 meilleurs | F3: Victoires | G3: 8e résultat | H3: Meilleur | I3: 2e meilleur | J3: 3e meilleur | K3: 4e meilleur | L3: 5e meilleur | M3: 6e meilleur | N3: 7e meilleur | O3: 9e résultat | P3: 10e résultat | Q3: Éligible | T3: Joueur | U3: Club | V3: Participations | W3: Victoires | X3: Meilleur | Y3: 2e | Z3: 3e | AA3: 4e | AB3: 5e | AC3: 6e | AD3: 7e | AE3: 8e | AF3: 9e | AG3: 10e | AH3: Total 7 | AI3: Éligible | AJ3: Clé tri

Sheet Série 10
A1: CLASSEMENT GÉNÉRAL – SÉRIE 10
A3: Rang | B3: Joueur | C3: Club | D3: Participations | E3: Total 7 meilleurs | F3: Victoires | G3: 8e résultat | H3: Meilleur | I3: 2e meilleur | J3: 3e meilleur | K3: 4e meilleur | L3: 5e meilleur | M3: 6e meilleur | N3: 7e meilleur | O3: 9e résultat | P3: 10e résultat | Q3: Éligible | T3: Joueur | U3: Club | V3: Participations | W3: Victoires | X3: Meilleur | Y3: 2e | Z3: 3e | AA3: 4e | AB3: 5e | AC3: 6e | AD3: 7e | AE3: 8e | AF3: 9e | AG3: 10e | AH3: Total 7 | AI3: Éligible | AJ3: Clé tri

Sheet Série 11
A1: CLASSEMENT GÉNÉRAL – SÉRIE 11
A3: Rang | B3: Joueur | C3: Club | D3: Participations | E3: Total 7 meilleurs | F3: Victoires | G3: 8e résultat | H3: Meilleur | I3: 2e meilleur | J3: 3e meilleur | K3: 4e meilleur | L3: 5e meilleur | M3: 6e meilleur | N3: 7e meilleur | O3: 9e résultat | P3: 10e résultat | Q3: Éligible | T3: Joueur | U3: Club | V3: Participations | W3: Victoires | X3: Meilleur | Y3: 2e | Z3: 3e | AA3: 4e | AB3: 5e | AC3: 6e | AD3: 7e | AE3: 8e | AF3: 9e | AG3: 10e | AH3: Total 7 | AI3: Éligible | AJ3: Clé tri

Sheet Activation VBA
A1: ACTIVATION DU CLASSEMENT GÉNÉRAL AUTOMATIQUE
A3: Étape | B3: Action
A4: 1 | B4: Ouvre ce fichier dans Microsoft Excel sur Windows.
A5: 2 | B5: Enregistre-le au format « Classeur Excel prenant en charge les macros (*.xlsm) ».
A6: 3 | B6: Appuie sur ALT + F11 pour ouvrir l’éditeur VBA.
A7: 4 | B7: Menu Fichier > Importer un fichier, puis importe « Module_Challenge.bas ».
A8: 5 | B8: Dans l’arborescence de gauche, double-clique sur « ThisWorkbook ».
A9: 6 | B9: Copie le contenu du fichier « Code_ThisWorkbook.txt » dans cette fenêtre.
A10: 7 | B10: Enregistre, ferme puis rouvre le fichier et autorise les macros.
A11: 8 | B11: Dès qu’un résultat est encodé ou modifié, les classements des 11 séries sont reconstruits automatiquement.
A12: 9 | B12: Tu peux aussi lancer manuellement la macro « RecalculerChallenge » avec ALT + F8.
